BEGIN:VCALENDAR
VERSION:2.0
PRODID:-//Tukios.com/
BEGIN:VEVENT
UID:fcf6df84-647f-4395-91d2-2487f9e0138a@www.pattonschad.com
DTSTAMP:20260422T082216Z
DTSTART:20260523T210000Z
DTEND:20260523T230000Z
SUMMARY:Celebration of Life
DESCRIPTION:
URL:https://www.pattonschad.com/obituaries/katherine-lundgren
LOCATION: 12867 Bayview Dr  Sauk Centre MN 56378
GEO:45.8162574;-94.9181934
END:VEVENT
END:VCALENDAR