BEGIN:VCALENDAR
VERSION:2.0
PRODID:-//Tukios.com/
BEGIN:VEVENT
UID:3fbb15af-3d16-41b4-9f40-c181b1d623b9@www.pattonschad.com
DTSTAMP:20260420T200023Z
DTSTART:20260423T150000Z
DTEND:20260423T153000Z
SUMMARY:Visitation
DESCRIPTION:
URL:https://www.pattonschad.com/obituaries/irene-roelike
LOCATION: 620 Beltline Rd  Sauk Centre MN 56378
GEO:45.7251212;-94.9552995
END:VEVENT
END:VCALENDAR