BEGIN:VCALENDAR
VERSION:2.0
PRODID:-//Tukios.com/
BEGIN:VEVENT
UID:75fec0c2-660f-4b28-a8dc-4ff0062397af@www.pattonschad.com
DTSTAMP:20260420T195607Z
DTSTART:20260423T160000Z
DTEND:20260423T170000Z
SUMMARY:Graveside Service
DESCRIPTION:
URL:https://www.pattonschad.com/obituaries/irene-roelike
LOCATION:Sacred Heart Cemetery 106 3rd Ave NE  Freeport MN 56331
GEO:45.6626825;-94.6861211
END:VEVENT
END:VCALENDAR