BEGIN:VCALENDAR
VERSION:2.0
PRODID:-//Tukios.com/
BEGIN:VEVENT
UID:c0376d92-7d82-4f06-8ac7-f878fdb3f333@www.pattonschad.com
DTSTAMP:20260420T214752Z
DTSTART:20260424T160000Z
DTEND:20260424T170000Z
SUMMARY:Mass of Christian Burial
DESCRIPTION:
URL:https://www.pattonschad.com/obituaries/donald-donnie-kotzer
LOCATION: Cedar Street & 3rd Street  Holdingford MN 56340
GEO:45.7293309;-94.4722149
END:VEVENT
END:VCALENDAR