BEGIN:VCALENDAR
VERSION:2.0
PRODID:-//Tukios.com/
BEGIN:VEVENT
UID:87a4a5e1-88a7-4103-ba07-e3e986fd534c@www.pattonschad.com
DTSTAMP:20260420T214735Z
DTSTART:20260424T150000Z
DTEND:20260424T154500Z
SUMMARY:Visitation
DESCRIPTION:
URL:https://www.pattonschad.com/obituaries/donald-donnie-kotzer
LOCATION: Cedar Street & 3rd Street  Holdingford MN 56340
GEO:45.7293309;-94.4722149
END:VEVENT
END:VCALENDAR