BEGIN:VCALENDAR
VERSION:2.0
PRODID:-//Tukios.com/
BEGIN:VEVENT
UID:7b136340-4dd0-4c60-834d-874ff35e111a@www.pattonschad.com
DTSTAMP:20260420T214903Z
DTSTART:20260423T210000Z
DTEND:20260424T000000Z
SUMMARY:Visitation
DESCRIPTION:
URL:https://www.pattonschad.com/obituaries/donald-donnie-kotzer
LOCATION: Cedar Street & 3rd Street  Holdingford MN 56340
GEO:45.7293309;-94.4722149
END:VEVENT
END:VCALENDAR